BEGIN:VCALENDAR
VERSION:2.0
PRODID:-//eventon.com NONSGML v1.0//EN
CALSCALE:GREGORIAN
METHOD:PUBLISH
BEGIN:VEVENT
UID:69ecaa5276692
DTSTAMP:20260425T114938Z
DTSTART:20260519T200000Z
DTEND:20260519T235900Z
LOCATION:Gastätte Hürter Gladbecker Straße 19 a
SUMMARY:Comedy-Werkstatt im Hürter
DESCRIPTION:Die Comedy-Werkstatt ist mehr als nur eine Open-Mic-Reihe – s
 ie ist ein Sprungbrett für neue Comedy-Talente in ganz Deutschland. Unser 
 Ziel: Menschen eine Bühne und eine Stimme zu geben. Wir begleiten Künstle
 r*innen von den ersten Schritten auf der Open-Mic-Bühne bis hin zum eigene
 n Soloprogramm. Dabei lassen wir niemanden allein: Neben[..]\nhttps://wat-g
 ibbet.de/events/comedy-werkstatt/
URL:https://wat-gibbet.de/events/comedy-werkstatt/
END:VEVENT
END:VCALENDAR