BEGIN:VCALENDAR
VERSION:2.0
PRODID:-//eventon.com NONSGML v1.0//EN
CALSCALE:GREGORIAN
METHOD:PUBLISH
BEGIN:VEVENT
UID:69e8a38285e27
DTSTAMP:20260422T103130Z
DTSTART:20260612T193000Z
DTEND:20260612T235900Z
LOCATION:Kulturkirche Heilig Kreuz e. V. Scharnhölzstr. 33\,  46236 Bottrop
SUMMARY:Summer Nights - All Woman Chor & Band
DESCRIPTION:Summer Nights &#8211; All Woman Chor &amp; Band. Inspiriert vom
  gleichnamigen Song aus dem Kultfilm Grease laden der All Woman Chor und se
 ine Band zu einem musikalischen Sommerabend voller Energie\,  Lebensfreude 
 und Gefühl ein. Das Konzertprogramm vereint die Leichtigkeit des Sommers m
 it bekannten Klassikern und modernen Arrangements\,  die das Publikum[..]\n
 https://wat-gibbet.de/events/all-woman-chor/
URL:https://wat-gibbet.de/events/all-woman-chor/
END:VEVENT
END:VCALENDAR