BEGIN:VCALENDAR
VERSION:2.0
PRODID:-//eventon.com NONSGML v1.0//EN
CALSCALE:GREGORIAN
METHOD:PUBLISH
BEGIN:VEVENT
UID:69e8db62df4b7
DTSTAMP:20260422T142954Z
DTSTART:20260503T170000Z
DTEND:20260503T235900Z
LOCATION:Kulturkirche Heilig Kreuz e. V. Scharnhölzstr. 33\,  46236 Bottrop
SUMMARY:Blumengroup
DESCRIPTION:Am Sonntagnachmittag\,  dem 3. Mai 2026\,  gibt es ab 16 Uhr Ka
 ffee und Kuchen und von 17 bis 19 Uhr ein neues Konzert unserer Sounds-of-S
 unday-Reihe in der Kulturkirche. Diesmal live on Stage: BLUMENGROUP Califor
 nia dreamin‘: Der Sound der sechsköpfigen Band entführt Sie ins Kalifor
 nien der 1960er Jahre. Eintritt: 10\, - €[..]\nhttps://wat-gibbet.de/even
 ts/blumengroup/
URL:https://wat-gibbet.de/events/blumengroup/
END:VEVENT
END:VCALENDAR