BEGIN:VCALENDAR
VERSION:2.0
PRODID:-//eventon.com NONSGML v1.0//EN
CALSCALE:GREGORIAN
METHOD:PUBLISH
BEGIN:VEVENT
UID:69ecaa0323c31
DTSTAMP:20260425T114819Z
DTSTART:20260531T180000Z
DTEND:20260531T134700Z
LOCATION:Kammerkonzertsaal im Kulturzentrum August Everding Böckenhoffstr 12a\,  Bottrop
SUMMARY:Comedy im Saal
DESCRIPTION:Am 31.05.2026 präsentiert Kabarettist Benjamin Eisenberg in Ko
 operation mit der Ev. Kirchengemeinde Bottrop im Kammerkonzertsaal (Böcken
 hoffstr. 12A\,  46236 Bottrop) eine brandneue Show aus der Reihe „Comedy 
 im Saal“. Die letzte Ausgabe vor der Sommerpause ist zugleich die Jubilä
 umsshow: 25 Jahre Comedy im Saal. Seit einem Vierteljahrhundert unterhält 
 das Format nun[..]\nhttps://wat-gibbet.de/events/comedy-im-saal/
URL:https://wat-gibbet.de/events/comedy-im-saal/
END:VEVENT
END:VCALENDAR