BEGIN:VCALENDAR
VERSION:2.0
PRODID:-//eventon.com NONSGML v1.0//EN
CALSCALE:GREGORIAN
METHOD:PUBLISH
BEGIN:VEVENT
UID:69e8a64f18406
DTSTAMP:20260422T104327Z
DTSTART:20260529T190000Z
DTEND:20260529T235900Z
LOCATION:Kulturkirche Heilig Kreuz e. V. Scharnhölzstr. 33\,  46236 Bottrop
SUMMARY:Musical Night in der Kulturkiche
DESCRIPTION:Die 2Besetzung präsentiert dreißig Musical-Hits aus vier Jah
 rzehnten. Die Musik- und Theatergruppe „Die Zweitbesetzung“ präsentier
 t auf der Bühne in der Kulturkirche unvergessliche Musical-Momente in drei
  Akten. Freitag\,  29. Mai\,  Beginn: 19 Uhr Eintritt: 20 € | Einlass ab 
 18 Uhr VVK: Foto Lelgemann | Humboldt-Buchhandlung Lotto auf der Hochstraß
 e 19 |[..]\nhttps://wat-gibbet.de/events/musical-night-in-der-kulturkiche/
URL:https://wat-gibbet.de/events/musical-night-in-der-kulturkiche/
END:VEVENT
END:VCALENDAR